BEGIN:VCALENDAR
VERSION:2.0
PRODID:-//Schweizer Bergführerverband SBV-ASGM - ECPv6.15.20//NONSGML v1.0//EN
CALSCALE:GREGORIAN
METHOD:PUBLISH
X-WR-CALNAME:Schweizer Bergführerverband SBV-ASGM
X-ORIGINAL-URL:https://sbv-asgm.ch/fr/
X-WR-CALDESC:Évènements pour Schweizer Bergführerverband SBV-ASGM
REFRESH-INTERVAL;VALUE=DURATION:PT1H
X-Robots-Tag:noindex
X-PUBLISHED-TTL:PT1H
BEGIN:VTIMEZONE
TZID:Europe/Zurich
BEGIN:DAYLIGHT
TZOFFSETFROM:+0100
TZOFFSETTO:+0200
TZNAME:CEST
DTSTART:20250330T010000
END:DAYLIGHT
BEGIN:STANDARD
TZOFFSETFROM:+0200
TZOFFSETTO:+0100
TZNAME:CET
DTSTART:20251026T010000
END:STANDARD
BEGIN:DAYLIGHT
TZOFFSETFROM:+0100
TZOFFSETTO:+0200
TZNAME:CEST
DTSTART:20260329T010000
END:DAYLIGHT
BEGIN:STANDARD
TZOFFSETFROM:+0200
TZOFFSETTO:+0100
TZNAME:CET
DTSTART:20261025T010000
END:STANDARD
BEGIN:DAYLIGHT
TZOFFSETFROM:+0100
TZOFFSETTO:+0200
TZNAME:CEST
DTSTART:20270328T010000
END:DAYLIGHT
BEGIN:STANDARD
TZOFFSETFROM:+0200
TZOFFSETTO:+0100
TZNAME:CET
DTSTART:20271031T010000
END:STANDARD
BEGIN:DAYLIGHT
TZOFFSETFROM:+0100
TZOFFSETTO:+0200
TZNAME:CEST
DTSTART:20280326T010000
END:DAYLIGHT
BEGIN:STANDARD
TZOFFSETFROM:+0200
TZOFFSETTO:+0100
TZNAME:CET
DTSTART:20281029T010000
END:STANDARD
END:VTIMEZONE
BEGIN:VEVENT
DTSTART;VALUE=DATE:20260408
DTEND;VALUE=DATE:20260424
DTSTAMP:20260420T125004
CREATED:20250129T093052Z
LAST-MODIFIED:20250129T093130Z
UID:37678-1775606400-1776988799@sbv-asgm.ch
SUMMARY:Hiver I
DESCRIPTION:Lieu: Les Grisons \nResponsable du cours: Ueli Tischhauser \nFrais de cours: Fr. 4’300.- \nDélai d’inscription: Pour les répétant/es: jusqu’au 7.2.2026 via l’espace candidat/-e
URL:https://sbv-asgm.ch/fr/kurs/kopie-von-hiver-i/
CATEGORIES:Guide de montagne
ORGANIZER;CN="Association suisse des guides de montagne":MAILTO:ausbildung@sbv-asgm.ch
END:VEVENT
BEGIN:VEVENT
DTSTART;VALUE=DATE:20260423
DTEND;VALUE=DATE:20260425
DTSTAMP:20260420T125004
CREATED:20250805T091916Z
LAST-MODIFIED:20250805T091948Z
UID:39910-1776902400-1777075199@sbv-asgm.ch
SUMMARY:Module Météo
DESCRIPTION:Lieu : Tramelan JU \nResponsable du cours : Paul Campiche \nFrais de cours : CHF 800.00 \nDélai d’inscription : jusqu’au 22 fév. 2026 via l’espace candidat/-e
URL:https://sbv-asgm.ch/fr/kurs/module-meteo-3/
CATEGORIES:Accompagnateur en montagne
END:VEVENT
BEGIN:VEVENT
DTSTART;VALUE=DATE:20260425
DTEND;VALUE=DATE:20260427
DTSTAMP:20260420T125004
CREATED:20250805T092033Z
LAST-MODIFIED:20250805T092033Z
UID:39915-1777075200-1777247999@sbv-asgm.ch
SUMMARY:Nature\, culture et animation 2
DESCRIPTION:Lieu : Tramelan JU \nResponsable du cours : Paul Campiche \nFrais de cours : CHF 800.- \nDélai d’inscription : jusqu’au 24 fév. 2026 via l’espace candidat/-e
URL:https://sbv-asgm.ch/fr/kurs/nature-culture-et-animation-2-2/
CATEGORIES:Accompagnateur en montagne
END:VEVENT
BEGIN:VEVENT
DTSTART;VALUE=DATE:20260427
DTEND;VALUE=DATE:20260508
DTSTAMP:20260420T125004
CREATED:20250129T101512Z
LAST-MODIFIED:20250129T101548Z
UID:37707-1777248000-1778198399@sbv-asgm.ch
SUMMARY:Hiver II
DESCRIPTION:Lieu: Valais \nResponsable du cours: Richard Michellod \nFrais de cours: Fr. 4’200.- \nDélai d’inscription: jusqu’au 10. février 2026 via l’espace candidat/-e
URL:https://sbv-asgm.ch/fr/kurs/hiver-ii-5/
CATEGORIES:Guide de montagne
ORGANIZER;CN="Association suisse des guides de montagne":MAILTO:ausbildung@sbv-asgm.ch
END:VEVENT
BEGIN:VEVENT
DTSTART;VALUE=DATE:20260508
DTEND;VALUE=DATE:20260512
DTSTAMP:20260420T125004
CREATED:20250805T092256Z
LAST-MODIFIED:20250805T092410Z
UID:39922-1778198400-1778543999@sbv-asgm.ch
SUMMARY:Été 1
DESCRIPTION:Lieu : Vallée Maggia TI \nResponsable du cours : Paul Campiche \nFrais de cours : CHF 1300.00 \nDélai d’inscription : jusqu’au 7 mars 2026 via l’espace candidat/-e \n 
URL:https://sbv-asgm.ch/fr/kurs/ete-1-7/
CATEGORIES:Accompagnateur en montagne
ORGANIZER;CN="Association suisse des guides de montagne":MAILTO:ausbildung@sbv-asgm.ch
END:VEVENT
BEGIN:VEVENT
DTSTART;VALUE=DATE:20260530
DTEND;VALUE=DATE:20260601
DTSTAMP:20260420T125004
CREATED:20240130T114929Z
LAST-MODIFIED:20240130T114929Z
UID:33582-1780099200-1780271999@sbv-asgm.ch
SUMMARY:Été 3
DESCRIPTION:Lieu: Schwarzsee FR \nResponsable du cours: Paul Campiche \nFrais de cours: CHF 750.- \nDélai d’inscription: jusqu’au 29.03.2026 via l’espace candidat/-e
URL:https://sbv-asgm.ch/fr/kurs/ete-3-4/
CATEGORIES:Accompagnateur en montagne
ORGANIZER;CN="Association suisse des guides de montagne":MAILTO:ausbildung@sbv-asgm.ch
END:VEVENT
BEGIN:VEVENT
DTSTART;VALUE=DATE:20260603
DTEND;VALUE=DATE:20260607
DTSTAMP:20260420T125004
CREATED:20250731T125143Z
LAST-MODIFIED:20250731T125850Z
UID:39872-1780444800-1780790399@sbv-asgm.ch
SUMMARY:Formation complémentaire "T4" pour des accompagnateurs/-trices en montagne avec brevet fédéral
DESCRIPTION:Lieu: Allières (FR) et/ou canton d’Uri \nLangue: cours français ou bilingue (selon le nombre d’inscriptions) \nFrais de cours: CHF 999.- \nAdmission: Pour tous les accompagnateurs/-trices en montagne en possession d’un brevet fédéral (veuillez joindre une copie) \nInscription: jusqu’au 2 mai 2026 avec le formulaire d’inscription (incl. liste des courses) à ausbildung@sbv-asgm.ch \n» plus informations sur le contenu du cours
URL:https://sbv-asgm.ch/fr/kurs/formation-complementaire-t4-pour-des-accompagnateurs-trices-en-montagne-avec-brevet-federal-6/
CATEGORIES:Accompagnateur en montagne
ORGANIZER;CN="Association suisse des guides de montagne":MAILTO:ausbildung@sbv-asgm.ch
END:VEVENT
BEGIN:VEVENT
DTSTART;VALUE=DATE:20260609
DTEND;VALUE=DATE:20260619
DTSTAMP:20260420T125004
CREATED:20250129T093238Z
LAST-MODIFIED:20250129T093348Z
UID:37684-1780963200-1781827199@sbv-asgm.ch
SUMMARY:Escalade sportive
DESCRIPTION:9 au 13 juin 2026 ou 14 au 18 juin 2026 \nLieu: Göschenen UR \nResponsable du cours: Ueli Tischhauser \nFrais de cours: env. Fr. 1750.- \nDélai d’inscription: Pour les répétant/es: jusqu’au 8 avril 2026  par l’espace candidat/-e
URL:https://sbv-asgm.ch/fr/kurs/escalade-sportive-5/
CATEGORIES:Guide de montagne
END:VEVENT
BEGIN:VEVENT
DTSTART;VALUE=DATE:20260611
DTEND;VALUE=DATE:20260615
DTSTAMP:20260420T125004
CREATED:20250805T092509Z
LAST-MODIFIED:20250805T092509Z
UID:39927-1781136000-1781481599@sbv-asgm.ch
SUMMARY:Nature\, culture et animation 3
DESCRIPTION:Lieu : Wildhaus SG \nResponsable du cours : Paul Campiche \nFrais de cours : CHF 1150.- \nDélai d’inscription : jusqu’au 10 avril 2026 via l’espace candidat/-e
URL:https://sbv-asgm.ch/fr/kurs/nature-culture-et-animation-3-2/
LOCATION:wildhaus
CATEGORIES:Accompagnateur en montagne
ORGANIZER;CN="Association suisse des guides de montagne":MAILTO:ausbildung@sbv-asgm.ch
END:VEVENT
BEGIN:VEVENT
DTSTART;VALUE=DATE:20260630
DTEND;VALUE=DATE:20260701
DTSTAMP:20260420T125004
CREATED:20250217T133033Z
LAST-MODIFIED:20250217T133113Z
UID:37871-1782777600-1782863999@sbv-asgm.ch
SUMMARY:Matériel & mécanique des chutes
DESCRIPTION:Lieu du cours: Les Grisons \nResponsable du cours: Ueli Tischhauser \nFrais: ca. 250.- \nDélai d’inscription: pour le répétant/es: jusqu’au 29 avril 2026 via l’espace candidat/-e
URL:https://sbv-asgm.ch/fr/kurs/materiel-mecanique-des-chutes-6/
CATEGORIES:Professeur d'escalade
ORGANIZER;CN="Association suisse des guides de montagne":MAILTO:ausbildung@sbv-asgm.ch
END:VEVENT
BEGIN:VEVENT
DTSTART;VALUE=DATE:20260630
DTEND;VALUE=DATE:20260712
DTSTAMP:20260420T125004
CREATED:20250129T100707Z
LAST-MODIFIED:20250129T100707Z
UID:37691-1782777600-1783814399@sbv-asgm.ch
SUMMARY:Matériel/ mécanique des chutes & été I partie 1
DESCRIPTION:Lieu: Les Grisons \nResponsable du cours: Ueli Tischhauser \nFrais de cours: Fr. 3’700.- \nDélai d’inscription: pour les répétant/es: jusqu’au 29 avril 2026 via l’espace candidat/-e
URL:https://sbv-asgm.ch/fr/kurs/materiel-mecanique-des-chutes-ete-i-partie-1-7/
CATEGORIES:Guide de montagne
ORGANIZER;CN="Association suisse des guides de montagne":MAILTO:ausbildung@sbv-asgm.ch
END:VEVENT
BEGIN:VEVENT
DTSTART;VALUE=DATE:20270629
DTEND;VALUE=DATE:20270710
DTSTAMP:20260420T125004
CREATED:20260202T142314Z
LAST-MODIFIED:20260204T084438Z
UID:56395-1814227200-1815177599@sbv-asgm.ch
SUMMARY:Été I partie 1
DESCRIPTION:Lieu: Valais \nResponsable du cours: Richard Michellod \nFrais de cours: Fr. 3’500.- \nDélai d’inscription: pour les répétant/es: jusqu’au 28 avril 2027 via l’espace candidat/-e
URL:https://sbv-asgm.ch/fr/kurs/ete-i-partie-1/
CATEGORIES:Guide de montagne
ORGANIZER;CN="Association suisse des guides de montagne":MAILTO:ausbildung@sbv-asgm.ch
END:VEVENT
BEGIN:VEVENT
DTSTART;VALUE=DATE:20260701
DTEND;VALUE=DATE:20260706
DTSTAMP:20260420T125004
CREATED:20250805T092725Z
LAST-MODIFIED:20260203T073303Z
UID:39934-1782864000-1783295999@sbv-asgm.ch
SUMMARY:Été 2
DESCRIPTION:Lieu : Muveran VD \nResponsable du cours : Paul Campiche \nFrais de cours : CHF 1400.00 \nDélai d’inscription : jusqu’au 30.5.2026 via l’espace candidat/-e
URL:https://sbv-asgm.ch/fr/kurs/ete-2-6/
CATEGORIES:Accompagnateur en montagne
END:VEVENT
BEGIN:VEVENT
DTSTART;VALUE=DATE:20260706
DTEND;VALUE=DATE:20260709
DTSTAMP:20260420T125004
CREATED:20250217T133202Z
LAST-MODIFIED:20250217T133202Z
UID:37876-1783296000-1783555199@sbv-asgm.ch
SUMMARY:Module nature et environnement alpins
DESCRIPTION:Lieu: Meiringen BE \nResponsable du cours : Hanspeter Sigrist \nFrais de cours : env. CHF 1000.00 \nDélai d’inscription : Pour les répétant/es: jusqu’au 5 mai 2026 via l’espace candidat/-e
URL:https://sbv-asgm.ch/fr/kurs/module-nature-et-environnement-alpins-7/
CATEGORIES:Professeur d'escalade
ORGANIZER;CN="Association suisse des guides de montagne":MAILTO:ausbildung@sbv-asgm.ch
END:VEVENT
BEGIN:VEVENT
DTSTART;VALUE=DATE:20260708
DTEND;VALUE=DATE:20260713
DTSTAMP:20260420T125004
CREATED:20250217T133724Z
LAST-MODIFIED:20250217T133724Z
UID:37888-1783468800-1783900799@sbv-asgm.ch
SUMMARY:Module longues voies
DESCRIPTION:Lieu: Meiringen BE \nResponsable du cours : Armando Bodeo \nFrais de cours : env. CHF 1350.- \nDélai d’inscription : Pour des répétant/es: jusqu’au 5 mai 2026 via l’espace candidat/-e
URL:https://sbv-asgm.ch/fr/kurs/module-longues-voies-6/
CATEGORIES:Professeur d'escalade
ORGANIZER;CN="Association suisse des guides de montagne":MAILTO:ausbildung@sbv-asgm.ch
END:VEVENT
BEGIN:VEVENT
DTSTART;VALUE=DATE:20260714
DTEND;VALUE=DATE:20260716
DTSTAMP:20260420T125004
CREATED:20250707T115747Z
LAST-MODIFIED:20250707T115812Z
UID:39685-1783987200-1784159999@sbv-asgm.ch
SUMMARY:Leadership
DESCRIPTION:Lieu: Bildungszentrum Burgbühl\, St. Antoni FR \nResponsable du cours: Trenkwalder Pauli \nFrais de cours: 690.- \nDélai d’inscription: jusqu’au 13.5.2026 par l’espace candidat/-e
URL:https://sbv-asgm.ch/fr/kurs/leadership-3/
CATEGORIES:Guide de montagne,Professeur d'escalade
ORGANIZER;CN="Association suisse des guides de montagne":MAILTO:ausbildung@sbv-asgm.ch
END:VEVENT
BEGIN:VEVENT
DTSTART;VALUE=DATE:20260715
DTEND;VALUE=DATE:20260718
DTSTAMP:20260420T125004
CREATED:20250707T115908Z
LAST-MODIFIED:20250707T115908Z
UID:39690-1784073600-1784332799@sbv-asgm.ch
SUMMARY:Marketing & administration / droit
DESCRIPTION:Lieu: Bildungszentrum Burgbühl\, St. Antoni FR \nResponsable du cours: Reinhard Zeiter / Pierre Mathey \nFrais de cours: 690.- \nDélai d’inscription: jusqu’au 14.5.2026 par l’espace candidat/-e
URL:https://sbv-asgm.ch/fr/kurs/marketing-administration-droit-6/
CATEGORIES:Guide de montagne,Professeur d'escalade
ORGANIZER;CN="Association suisse des guides de montagne":MAILTO:ausbildung@sbv-asgm.ch
END:VEVENT
BEGIN:VEVENT
DTSTART;VALUE=DATE:20260827
DTEND;VALUE=DATE:20260831
DTSTAMP:20260420T125004
CREATED:20250805T092842Z
LAST-MODIFIED:20250805T092842Z
UID:39939-1787788800-1788134399@sbv-asgm.ch
SUMMARY:Nature\, culture et animation 4
DESCRIPTION:Lieu : Salgesch VS \nResponsable du cours : Paul Campiche \nFrais de cours : CHF 1200.00 \nDélai d’inscription : jusqu’au 26 juin 2026 via l’espace candidat/-e
URL:https://sbv-asgm.ch/fr/kurs/nature-culture-et-animation-4-2/
CATEGORIES:Accompagnateur en montagne
END:VEVENT
BEGIN:VEVENT
DTSTART;VALUE=DATE:20260828
DTEND;VALUE=DATE:20260908
DTSTAMP:20260420T125004
CREATED:20250129T100957Z
LAST-MODIFIED:20250129T101247Z
UID:37699-1787875200-1788825599@sbv-asgm.ch
SUMMARY:Été I partie 2
DESCRIPTION:Lieu: Les Grisons \nResponsable du cours:  Ueli Tischhauser \nFrais de cours: Fr. 3’100.- \nDélai d’inscription: pour les répétant/es: jusqu’au 27 juin 2026 via l’espace candidat/-e \nPoint de rencontre/début du module : le soir du 28.8.2026
URL:https://sbv-asgm.ch/fr/kurs/kopie-von-ete-i-partie-2/
CATEGORIES:Guide de montagne
ORGANIZER;CN="Association suisse des guides de montagne":MAILTO:ausbildung@sbv-asgm.ch
END:VEVENT
BEGIN:VEVENT
DTSTART;VALUE=DATE:20260901
DTEND;VALUE=DATE:20260917
DTSTAMP:20260420T125004
CREATED:20250129T102756Z
LAST-MODIFIED:20250129T102901Z
UID:37715-1788220800-1789603199@sbv-asgm.ch
SUMMARY:Module été II avec examens fédéraux
DESCRIPTION:Lieu : Alpes :) \nResponsable du cours : Richard Michellod \nFrais de cours : CHF 5’200.- \nDélai d’inscription : Les participants au module d’hiver II sont automatiquement inscrits. Pour les répétants : jusqu’au 30.6.2026 dans l’espace candidat. \n» Description du module « été II » et description du module « Examen fédéral »
URL:https://sbv-asgm.ch/fr/kurs/module-ete-ii-avec-examens-federaux-7/
CATEGORIES:Guide de montagne
ORGANIZER;CN="Association suisse des guides de montagne":MAILTO:ausbildung@sbv-asgm.ch
END:VEVENT
BEGIN:VEVENT
DTSTART;VALUE=DATE:20260907
DTEND;VALUE=DATE:20260912
DTSTAMP:20260420T125004
CREATED:20250217T133853Z
LAST-MODIFIED:20250217T133853Z
UID:37895-1788739200-1789171199@sbv-asgm.ch
SUMMARY:Module personnalité de formateur et coaching en escalade
DESCRIPTION:Lieu: Meiringen BE \nResponsable du cours : Hanspeter Sigrist \nFrais de cours : CHF 1750.00 (S’il y a moins de 6 participants\, les coûts des cours augmentent en conséquence.) \nDélai d’inscription : pour les répétant/es: jusqu’au 6 juillet 2026 via l’espace candidat/-e
URL:https://sbv-asgm.ch/fr/kurs/module-personnalite-de-formateur-et-coaching-en-escalade-7/
CATEGORIES:Professeur d'escalade
ORGANIZER;CN="Association suisse des guides de montagne":MAILTO:ausbildung@sbv-asgm.ch
END:VEVENT
BEGIN:VEVENT
DTSTART;VALUE=DATE:20260925
DTEND;VALUE=DATE:20260929
DTSTAMP:20260420T125004
CREATED:20250129T091548Z
LAST-MODIFIED:20250129T091742Z
UID:37664-1790294400-1790639999@sbv-asgm.ch
SUMMARY:Formation 2027: Évaluation d'entrée escalade en glace/rocher
DESCRIPTION:25 au 26 septembre 2026 ou du 27 au 28 septembre 2026 \n\nPour plus d’informations\, cliquez ici.\n\nLieu: Saas Fee VS \nResponsable du cours: Richard Michellod \nFrais de cours: regardez sous évaluation d’entrée technique de ski \nDélai d’inscription: 30 novembre 2025 avec le formulaire d’inscription en ligne \n» Description du module « Évaluation d’entrée »
URL:https://sbv-asgm.ch/fr/kurs/formation-2027-evaluation-dentree-escalade-en-glace-rocher/
CATEGORIES:Guide de montagne
ORGANIZER;CN="Association suisse des guides de montagne":MAILTO:ausbildung@sbv-asgm.ch
END:VEVENT
BEGIN:VEVENT
DTSTART;VALUE=DATE:20260928
DTEND;VALUE=DATE:20261002
DTSTAMP:20260420T125004
CREATED:20250805T092950Z
LAST-MODIFIED:20250805T093024Z
UID:39946-1790553600-1790899199@sbv-asgm.ch
SUMMARY:Nature\, culture et animation 5
DESCRIPTION:Lieu : Zernez GR \nResponsable du cours : Paul Campiche \nFrais de cours : CHF 1200.00 \nDélai d’inscription : jusqu’au 27 juillet 2026 via l’espace candidat/-e
URL:https://sbv-asgm.ch/fr/kurs/nature-culture-et-animation-5-2/
CATEGORIES:Accompagnateur en montagne
END:VEVENT
BEGIN:VEVENT
DTSTART;VALUE=DATE:20261012
DTEND;VALUE=DATE:20261018
DTSTAMP:20260420T125004
CREATED:20250217T133956Z
LAST-MODIFIED:20250217T134015Z
UID:37902-1791763200-1792281599@sbv-asgm.ch
SUMMARY:Module technique de conduite et planification des courses
DESCRIPTION:Lieu: Coglio TI \nResponsable du cours: Hanspeter Sigrist \nFrais de cours: CHF 2000.00 (S’il y a moins de 6 participants\, les coûts des cours augmentent en conséquence.) \nDélai d’inscription: Pour les répétant/es:  jusqu’au 11 août 2026 via l’espace candidat/-e \n  \n 
URL:https://sbv-asgm.ch/fr/kurs/module-technique-de-conduite-et-planification-des-courses-7/
CATEGORIES:Professeur d'escalade
ORGANIZER;CN="Association suisse des guides de montagne":MAILTO:ausbildung@sbv-asgm.ch
END:VEVENT
BEGIN:VEVENT
DTSTART;VALUE=DATE:20261112
DTEND;VALUE=DATE:20261114
DTSTAMP:20260420T125004
CREATED:20250805T093446Z
LAST-MODIFIED:20250805T093446Z
UID:39951-1794441600-1794614399@sbv-asgm.ch
SUMMARY:Leadership
DESCRIPTION:Lieu: Bildungszentrum Burgbühl\, St. Antoni FR \nResponsable du cours: Jasmin Biller\, Jérémy Folly \nFrais de cours: 690.- \nDélai d’inscription: jusqu’au 11 août 2026 par l’espace candidat/-e
URL:https://sbv-asgm.ch/fr/kurs/leadership-4/
CATEGORIES:Accompagnateur en montagne
ORGANIZER;CN="Association suisse des guides de montagne":MAILTO:ausbildung@sbv-asgm.ch
END:VEVENT
BEGIN:VEVENT
DTSTART;VALUE=DATE:20261113
DTEND;VALUE=DATE:20261116
DTSTAMP:20260420T125004
CREATED:20250805T093549Z
LAST-MODIFIED:20250805T093610Z
UID:39958-1794528000-1794787199@sbv-asgm.ch
SUMMARY:Marketing & administration / droit
DESCRIPTION:Lieu: Bildungszentrum Burgbühl\, St. Antoni FR \nResponsable du cours: Reinhard Zeiter / Pierre Mathey \nFrais de cours: 690.- \nDélai d’inscription: jusqu’au 12.8.2026 par l’espace candidat/-e
URL:https://sbv-asgm.ch/fr/kurs/marketing-administration-droit-7/
CATEGORIES:Accompagnateur en montagne
ORGANIZER;CN="Association suisse des guides de montagne":MAILTO:ausbildung@sbv-asgm.ch
END:VEVENT
BEGIN:VEVENT
DTSTART;VALUE=DATE:20261123
DTEND;VALUE=DATE:20261126
DTSTAMP:20260420T125004
CREATED:20260202T140716Z
LAST-MODIFIED:20260202T140811Z
UID:56355-1795392000-1795651199@sbv-asgm.ch
SUMMARY:Médecine & sauvetage
DESCRIPTION:Lieu: Kandersteg BE \nResponsable du cours: Daniel Walter /  Martin Walliser \nFrais de cours: CHF 800.- \nDélai d’inscription: jusqu’au 15 octobre 2026 via l’espace candidat/-e
URL:https://sbv-asgm.ch/fr/kurs/medecine-sauvetage-2/
CATEGORIES:Guide de montagne
ORGANIZER;CN="Association suisse des guides de montagne":MAILTO:ausbildung@sbv-asgm.ch
END:VEVENT
BEGIN:VEVENT
DTSTART;VALUE=DATE:20261126
DTEND;VALUE=DATE:20261127
DTSTAMP:20260420T125004
CREATED:20260204T090518Z
LAST-MODIFIED:20260204T090518Z
UID:56492-1795651200-1795737599@sbv-asgm.ch
SUMMARY:Matériel & mécanique des chutes
DESCRIPTION:Lieu du cours: Kandersteg BE \nResponsable du cours: Richard Michellod \nFrais: ca. 250.- \nDélai d’inscription: pour le répétant/es: jusqu’au 15 octobre 2026 via l’espace candidat/-e
URL:https://sbv-asgm.ch/fr/kurs/materiel-mecanique-des-chutes-7/
CATEGORIES:Guide de montagne
ORGANIZER;CN="Association suisse des guides de montagne":MAILTO:ausbildung@sbv-asgm.ch
END:VEVENT
BEGIN:VEVENT
DTSTART;VALUE=DATE:20270109
DTEND;VALUE=DATE:20270114
DTSTAMP:20260420T125004
CREATED:20250805T093654Z
LAST-MODIFIED:20260203T073202Z
UID:39963-1799452800-1799884799@sbv-asgm.ch
SUMMARY:Hiver 1
DESCRIPTION:Lieu: Simplon VS \nResponsable du cours: Paul Campiche \nFrais de cours: CHF 1850.- \nDélai d’inscription: jusqu’au 08. nov. 2026 via l’espace candidat/-e
URL:https://sbv-asgm.ch/fr/kurs/hiver-1-7/
CATEGORIES:Accompagnateur en montagne
ORGANIZER;CN="Association suisse des guides de montagne":MAILTO:ausbildung@sbv-asgm.ch
END:VEVENT
BEGIN:VEVENT
DTSTART;VALUE=DATE:20270113
DTEND;VALUE=DATE:20270123
DTSTAMP:20260420T125004
CREATED:20260202T140920Z
LAST-MODIFIED:20260202T140920Z
UID:56362-1799798400-1800662399@sbv-asgm.ch
SUMMARY:Avalanches/ski
DESCRIPTION:Lieu: Leukerbad VS \nResponsable du cours: Richard Michellod \nFrais de cours: Fr. 3’700.- \nDélai d’incsription: Pour les répétant/es: jusqu’au 1 nov. 2026 via l’espace candidat/-e
URL:https://sbv-asgm.ch/fr/kurs/avalanches-ski-8/
CATEGORIES:Guide de montagne
ORGANIZER;CN="Association suisse des guides de montagne":MAILTO:ausbildung@sbv-asgm.ch
END:VEVENT
END:VCALENDAR